BEGIN:VCALENDAR
VERSION:2.0
PRODID:-//Quincy For Congress - ECPv6.15.20//NONSGML v1.0//EN
CALSCALE:GREGORIAN
METHOD:PUBLISH
X-ORIGINAL-URL:https://quincyforcongress.com
X-WR-CALDESC:Events for Quincy For Congress
REFRESH-INTERVAL;VALUE=DURATION:PT1H
X-Robots-Tag:noindex
X-PUBLISHED-TTL:PT1H
BEGIN:VTIMEZONE
TZID:America/New_York
BEGIN:DAYLIGHT
TZOFFSETFROM:-0500
TZOFFSETTO:-0400
TZNAME:EDT
DTSTART:20250309T070000
END:DAYLIGHT
BEGIN:STANDARD
TZOFFSETFROM:-0400
TZOFFSETTO:-0500
TZNAME:EST
DTSTART:20251102T060000
END:STANDARD
BEGIN:DAYLIGHT
TZOFFSETFROM:-0500
TZOFFSETTO:-0400
TZNAME:EDT
DTSTART:20260308T070000
END:DAYLIGHT
BEGIN:STANDARD
TZOFFSETFROM:-0400
TZOFFSETTO:-0500
TZNAME:EST
DTSTART:20261101T060000
END:STANDARD
BEGIN:DAYLIGHT
TZOFFSETFROM:-0500
TZOFFSETTO:-0400
TZNAME:EDT
DTSTART:20270314T070000
END:DAYLIGHT
BEGIN:STANDARD
TZOFFSETFROM:-0400
TZOFFSETTO:-0500
TZNAME:EST
DTSTART:20271107T060000
END:STANDARD
END:VTIMEZONE
BEGIN:VEVENT
DTSTART;TZID=America/New_York:20260425T160000
DTEND;TZID=America/New_York:20260425T180000
DTSTAMP:20260425T154101
CREATED:20260403T125329Z
LAST-MODIFIED:20260424T214508Z
UID:2105-1777132800-1777140000@quincyforcongress.com
SUMMARY:Meet and Greet with Quincy in Clinton\, MD
DESCRIPTION:Join us for an opportunity to meet Quincy Bareebe\, your congressional candidate in person\, hear their vision for the community\, and share the issues that matter most to you. This is a chance to ask questions\, connect with neighbors\, and learn more about the campaign. All are welcome! \n📍 Location:\nPanera Bread\n8823 Woodyard Rd.\nClinton\, MD 20735
URL:https://quincyforcongress.com/event/meet-and-greet-with-quincy-in-clinton-md/
LOCATION:Event Location – 1936 Bar and Grill\, 4100 Mears Avenue\, Chesapeake Beach\, MD\, 20732\, United States
CATEGORIES:Meet The Candidate
ATTACH;FMTTYPE=image/webp:https://quincyforcongress.com/wp-content/uploads/2026/03/Meet-and-Greet-with-Quincy-in-Accokeek-scaled.webp
END:VEVENT
BEGIN:VEVENT
DTSTART;TZID=America/New_York:20260427T183000
DTEND;TZID=America/New_York:20260427T203000
DTSTAMP:20260425T154101
CREATED:20260423T202319Z
LAST-MODIFIED:20260423T202546Z
UID:2156-1777314600-1777321800@quincyforcongress.com
SUMMARY:Meet and Greet with Pastor Kobby Sarpong and Quincy Bareebe
DESCRIPTION:Hear directly about Quincy’s vision and plans for our district\, including: reducing inflation\, ensuring healthcare access and safeguarding Medicare and Social Security\, investing in education through universal pre-K\, debt-free community college\, and career training. \n📍 Location:\nRedeemers Church of Christ\n10001 Aerospace Rd\nLanham\, MD 20706
URL:https://quincyforcongress.com/event/meet-and-greet-with-pastor-kobby-sarpong-and-quincy-bareebe/
LOCATION:Event Location – Redeemers Chapel\, 10001 Aerospace Rd\, Lanham\, 20706\, United States
CATEGORIES:Meet The Candidate
ATTACH;FMTTYPE=image/jpeg:https://quincyforcongress.com/wp-content/uploads/2026/03/IMG_0627-1-scaled.jpg
END:VEVENT
BEGIN:VEVENT
DTSTART;TZID=America/New_York:20260430T180000
DTEND;TZID=America/New_York:20260430T200000
DTSTAMP:20260425T154101
CREATED:20260422T023116Z
LAST-MODIFIED:20260422T023116Z
UID:2144-1777572000-1777579200@quincyforcongress.com
SUMMARY:Meet and Greet with Quincy in Chesapeake Beach\, MD (Calvert County)
DESCRIPTION:Join us for an opportunity to meet Quincy Bareebe\, your congressional candidate in person\, hear their vision for the community\, and share the issues that matter most to you. This is a chance to ask questions\, connect with neighbors\, and learn more about the campaign. All are welcome! \n📍 Location:\n1936 Bar and Grill\n4100 Mears Avenue\nChesapeake Beach\, MD\, 20732
URL:https://quincyforcongress.com/event/meet-and-greet-with-quincy-in-chesapeake-beach-md-calvert-county/
LOCATION:Event Location – 1936 Bar and Grill\, 4100 Mears Avenue\, Chesapeake Beach\, MD\, 20732\, United States
CATEGORIES:Meet The Candidate
ATTACH;FMTTYPE=image/webp:https://quincyforcongress.com/wp-content/uploads/2026/03/IMG_0253-scaled.webp
END:VEVENT
BEGIN:VEVENT
DTSTART;TZID=America/New_York:20260505T183000
DTEND;TZID=America/New_York:20260505T203000
DTSTAMP:20260425T154101
CREATED:20260416T201106Z
LAST-MODIFIED:20260416T201525Z
UID:2133-1778005800-1778013000@quincyforcongress.com
SUMMARY:Meet and Greet with Quincy in Bowie\, MD
DESCRIPTION:Join us for an opportunity to meet Quincy Bareebe\, your congressional candidate in person\, hear their vision for the community\, and share the issues that matter most to you. This is a chance to ask questions\, connect with neighbors\, and learn more about the campaign. All are welcome! \n📍 Location:\nPanera Bread\n3931 Towne Center Blvd\nBowie\, MD 20726
URL:https://quincyforcongress.com/event/meet-and-greet-with-quincy-in-bowie-town-center/
LOCATION:Event Location – 6868 Race Trk\, 6868 Race Track Rd\, Bowie\, MD\, 20715\, United States
CATEGORIES:Meet The Candidate
ATTACH;FMTTYPE=image/webp:https://quincyforcongress.com/wp-content/uploads/2026/03/AS9_4224-scaled.webp
END:VEVENT
END:VCALENDAR