BEGIN:VCALENDAR
VERSION:2.0
PRODID:-//Quincy For Congress - ECPv6.15.20//NONSGML v1.0//EN
CALSCALE:GREGORIAN
METHOD:PUBLISH
X-WR-CALNAME:Quincy For Congress
X-ORIGINAL-URL:https://quincyforcongress.com
X-WR-CALDESC:Events for Quincy For Congress
REFRESH-INTERVAL;VALUE=DURATION:PT1H
X-Robots-Tag:noindex
X-PUBLISHED-TTL:PT1H
BEGIN:VTIMEZONE
TZID:America/New_York
BEGIN:DAYLIGHT
TZOFFSETFROM:-0500
TZOFFSETTO:-0400
TZNAME:EDT
DTSTART:20250309T070000
END:DAYLIGHT
BEGIN:STANDARD
TZOFFSETFROM:-0400
TZOFFSETTO:-0500
TZNAME:EST
DTSTART:20251102T060000
END:STANDARD
BEGIN:DAYLIGHT
TZOFFSETFROM:-0500
TZOFFSETTO:-0400
TZNAME:EDT
DTSTART:20260308T070000
END:DAYLIGHT
BEGIN:STANDARD
TZOFFSETFROM:-0400
TZOFFSETTO:-0500
TZNAME:EST
DTSTART:20261101T060000
END:STANDARD
BEGIN:DAYLIGHT
TZOFFSETFROM:-0500
TZOFFSETTO:-0400
TZNAME:EDT
DTSTART:20270314T070000
END:DAYLIGHT
BEGIN:STANDARD
TZOFFSETFROM:-0400
TZOFFSETTO:-0500
TZNAME:EST
DTSTART:20271107T060000
END:STANDARD
END:VTIMEZONE
BEGIN:VEVENT
DTSTART;TZID=America/New_York:20260421T183000
DTEND;TZID=America/New_York:20260421T203000
DTSTAMP:20260425T132241
CREATED:20260416T162755Z
LAST-MODIFIED:20260416T171724Z
UID:2124-1776796200-1776803400@quincyforcongress.com
SUMMARY:Meet and Greet with Quincy in Upper Marlboro\, MD
DESCRIPTION:Join us for an opportunity to meet Quincy Bareebe\, your congressional candidate in person\, hear their vision for the community\, and share the issues that matter most to you. This is a chance to ask questions\, connect with neighbors\, and learn more about the campaign. All are welcome! \n📍 Location:\nUpper Marlboro Community Center\n5400 Marlboro Race Track Rd\nUpper Marlboro\, MD 20772
URL:https://quincyforcongress.com/event/meet-and-greet-with-quincy-in-upper-marlboro-md/
LOCATION:Event Location – Marlboro Race Track\, 5400 Marlboro Race Track Rd\, Upper Marlboro\, MD\, 20772\, United States
CATEGORIES:Meet The Candidate
ATTACH;FMTTYPE=image/webp:https://quincyforcongress.com/wp-content/uploads/2026/03/Meet-and-Greet-with-Quincy-in-Upper-Marlboro-scaled.webp
END:VEVENT
BEGIN:VEVENT
DTSTART;TZID=America/New_York:20260419T163000
DTEND;TZID=America/New_York:20260419T193000
DTSTAMP:20260425T132241
CREATED:20260324T170228Z
LAST-MODIFIED:20260324T172934Z
UID:2081-1776616200-1776627000@quincyforcongress.com
SUMMARY:Meet and Greet with Quincy in Beltsville
DESCRIPTION:Join us for an opportunity to meet Quincy Bareebe\, your congressional candidate in person\, hear their vision for the community\, and share the issues that matter most to you. This is a chance to ask questions\, connect with neighbors\, and learn more about the campaign. All are welcome! \n📍 Location:\nAfrican Diaspora Meet & Greet\nKEMS Media\n5020 Sunnyside Avenue\nSTE 101\, Beltsville\, MD 20705
URL:https://quincyforcongress.com/event/meet-and-greet-with-quincy-in-beltsville/
LOCATION:Event Location – 5020 Sunnyside Ave
CATEGORIES:Meet The Candidate
ATTACH;FMTTYPE=image/webp:https://quincyforcongress.com/wp-content/uploads/2026/03/Meet-and-Greet-with-Quincy--scaled.webp
END:VEVENT
BEGIN:VEVENT
DTSTART;TZID=America/New_York:20260418T163000
DTEND;TZID=America/New_York:20260418T193000
DTSTAMP:20260425T132241
CREATED:20260416T202540Z
LAST-MODIFIED:20260416T202554Z
UID:2136-1776529800-1776540600@quincyforcongress.com
SUMMARY:Meet and Greet with Quincy in Beltsville\, MD
DESCRIPTION:Join us for an opportunity to meet Quincy Bareebe\, your congressional candidate in person\, hear their vision for the community\, and share the issues that matter most to you. This is a chance to ask questions\, connect with neighbors\, and learn more about the campaign. All are welcome! \n📍 Location:\nKEMS Media\n5020 Sunnyside Ave\, Ste 101\nBeltsville\, MD 20705 \n🎟 Tickets:\n$50 • $100 • $250
URL:https://quincyforcongress.com/event/meet-and-greet-with-quincy-in-beltsville-md/
LOCATION:Event Location – 5020 Sunnyside Ave
CATEGORIES:Meet The Candidate
ATTACH;FMTTYPE=image/webp:https://quincyforcongress.com/wp-content/uploads/2026/03/Meet-and-Greet-with-Quincy-in-Upper-Marlboro-scaled.webp
END:VEVENT
BEGIN:VEVENT
DTSTART;TZID=America/New_York:20260415T160000
DTEND;TZID=America/New_York:20260415T180000
DTSTAMP:20260425T132241
CREATED:20260409T211828Z
LAST-MODIFIED:20260409T211828Z
UID:2119-1776268800-1776276000@quincyforcongress.com
SUMMARY:Meet and Greet with Quincy in Hollywood\, MD
DESCRIPTION:Join us for an opportunity to meet Quincy Bareebe\, your congressional candidate in person\, hear their vision for the community\, and share the issues that matter most to you. This is a chance to ask questions\, connect with neighbors\, and learn more about the campaign. All are welcome! \n📍 Location:\nThe Local\n25188 Three Notch Road\,\nHollywood\, MD\, 20636
URL:https://quincyforcongress.com/event/meet-and-greet-with-quincy-in-hollywood-md/
LOCATION:Event Location – 25188 Three Notch
CATEGORIES:Meet The Candidate
ATTACH;FMTTYPE=image/jpeg:https://quincyforcongress.com/wp-content/uploads/2026/03/Meet-and-Greet-with-Quincy-in-Brandywine-scaled.jpg
END:VEVENT
BEGIN:VEVENT
DTSTART;TZID=America/New_York:20260411T160000
DTEND;TZID=America/New_York:20260411T180000
DTSTAMP:20260425T132241
CREATED:20260403T124757Z
LAST-MODIFIED:20260403T124757Z
UID:2102-1775923200-1775930400@quincyforcongress.com
SUMMARY:Meet and Greet with Quincy in Bowie\, MD
DESCRIPTION:Join us for an opportunity to meet Quincy Bareebe\, your congressional candidate in person\, hear their vision for the community\, and share the issues that matter most to you. This is a chance to ask questions\, connect with neighbors\, and learn more about the campaign. All are welcome! \n📍 Location:\nBlue Sunday Bar & Grill\n6868 Race Track Rd\nBowie\, MD 20715 \n 
URL:https://quincyforcongress.com/event/meet-and-greet-with-quincy-in-bowie-md-2/
LOCATION:Event Location – 6868 Race Trk\, 6868 Race Track Rd\, Bowie\, MD\, 20715\, United States
CATEGORIES:Meet The Candidate
ATTACH;FMTTYPE=image/webp:https://quincyforcongress.com/wp-content/uploads/2026/03/Meet-and-Greet-with-Quincy-in-Upper-Marlboro-scaled.webp
END:VEVENT
BEGIN:VEVENT
DTSTART;TZID=America/New_York:20260409T183000
DTEND;TZID=America/New_York:20260409T203000
DTSTAMP:20260425T132241
CREATED:20260403T122337Z
LAST-MODIFIED:20260403T122337Z
UID:2099-1775759400-1775766600@quincyforcongress.com
SUMMARY:Meet and Greet with Quincy in Largo\, MD
DESCRIPTION:Join us for an opportunity to meet Quincy Bareebe\, your congressional candidate in person\, hear their vision for the community\, and share the issues that matter most to you. This is a chance to ask questions\, connect with neighbors\, and learn more about the campaign. All are welcome! \n📍 Location:\nCarolina Kitchen (Boulevard at the Capital Centre)\n800C Shoppers Way\nLargo\, MD 20774 \n  \n 
URL:https://quincyforcongress.com/event/meet-and-greet-with-quincy-in-largo-md/
LOCATION:Event Location – 800c Shoppers Way\, 800C Shoppers Way\, Largo\, MD\, 20772\, United States
CATEGORIES:Meet The Candidate
ATTACH;FMTTYPE=image/jpeg:https://quincyforcongress.com/wp-content/uploads/2026/03/IMG_0627-1-scaled.jpg
END:VEVENT
BEGIN:VEVENT
DTSTART;TZID=America/New_York:20260404T120000
DTEND;TZID=America/New_York:20260404T140000
DTSTAMP:20260425T132241
CREATED:20260330T180359Z
LAST-MODIFIED:20260330T180514Z
UID:2096-1775304000-1775311200@quincyforcongress.com
SUMMARY:Meet and Greet with Quincy in Bowie\, MD
DESCRIPTION:Join us for an opportunity to meet Quincy Bareebe\, your congressional candidate in person\, hear their vision for the community\, and share the issues that matter most to you. This is a chance to ask questions\, connect with neighbors\, and learn more about the campaign. All are welcome! \n📍 Location:\nBJ’s Restaurant and Brewhouse\n15701 Emerald Way Bowie\, MD 20716
URL:https://quincyforcongress.com/event/meet-and-greet-with-quincy-in-bowie-md/
LOCATION:Event Location – Bowie\, MD\, 15701 Emerald Way\, Bowie\, 20726\, United States
CATEGORIES:Meet The Candidate
ATTACH;FMTTYPE=image/webp:https://quincyforcongress.com/wp-content/uploads/2026/03/IMG_0253-scaled.webp
END:VEVENT
BEGIN:VEVENT
DTSTART;TZID=America/New_York:20260401T150000
DTEND;TZID=America/New_York:20260401T170000
DTSTAMP:20260425T132241
CREATED:20260330T175928Z
LAST-MODIFIED:20260330T175928Z
UID:2091-1775055600-1775062800@quincyforcongress.com
SUMMARY:Meet and Greet with Quincy in Prince Fredrick
DESCRIPTION:Join us for an opportunity to meet Quincy Bareebe\, your congressional candidate in person\, hear their vision for the community\, and share the issues that matter most to you. This is a chance to ask questions\, connect with neighbors\, and learn more about the campaign. All are welcome! \n📍 Location:\nCalvert Crabs and Seafood\n151 Central Square Dr\nPrince Frederick\, MD 20678
URL:https://quincyforcongress.com/event/meet-and-greet-with-quincy-in-prince-fredrick/
LOCATION:Event Location – Prince Fredrick\, 151 Central Square Dr\, Prince Frederick\, MD\, 20678\, United States
CATEGORIES:Meet The Candidate
ATTACH;FMTTYPE=image/jpeg:https://quincyforcongress.com/wp-content/uploads/2026/03/Meet-and-Greet-with-Quincy-in-Brandywine-scaled.jpg
END:VEVENT
BEGIN:VEVENT
DTSTART;TZID=America/New_York:20260331T183000
DTEND;TZID=America/New_York:20260331T203000
DTSTAMP:20260425T132241
CREATED:20260330T173936Z
LAST-MODIFIED:20260330T173936Z
UID:2087-1774981800-1774989000@quincyforcongress.com
SUMMARY:Meet and Greet with Quincy in Woodmore Towne Center
DESCRIPTION:Join us for an opportunity to meet Quincy Bareebe\, your congressional candidate in person\, hear their vision for the community\, and share the issues that matter most to you. This is a chance to ask questions\, connect with neighbors\, and learn more about the campaign. All are welcome! \n📍 Location:\nSilver Diner in Woodmore Towne Center\n9151 Ruby Lockhart Blvd\nLanham\, MD 20706
URL:https://quincyforcongress.com/event/meet-and-greet-with-quincy-in-woodmore-towne-center-2/
LOCATION:Event Location – Silver Diner Woodmore Town Center\, 9151 Ruby Lockhart Blvd\, Lanham\, MD\, 20706\, United States
CATEGORIES:Meet The Candidate
ATTACH;FMTTYPE=image/jpeg:https://quincyforcongress.com/wp-content/uploads/2026/03/IMG_0627-1-scaled.jpg
END:VEVENT
BEGIN:VEVENT
DTSTART;TZID=America/New_York:20260328T110000
DTEND;TZID=America/New_York:20260328T130000
DTSTAMP:20260425T132241
CREATED:20260325T072320Z
LAST-MODIFIED:20260325T072431Z
UID:2084-1774695600-1774702800@quincyforcongress.com
SUMMARY:Meet and Greet with Quincy in Upper Marlboro
DESCRIPTION:Join us for an opportunity to meet Quincy Bareebe\, your congressional candidate in person\, hear their vision for the community\, and share the issues that matter most to you. This is a chance to ask questions\, connect with neighbors\, and learn more about the campaign. All are welcome! \n📍 Location:\nOlde Towne Inn\n14745 Main St\nUpper Marlboro\, MD 20772
URL:https://quincyforcongress.com/event/meet-and-greet-with-quincy-in-upper-marlboro-3/
LOCATION:Event Location – 14745 Main\, 14745 Main Str\, Upper Marlboro\, MD\, 20772\, United States
CATEGORIES:Meet The Candidate
ATTACH;FMTTYPE=image/webp:https://quincyforcongress.com/wp-content/uploads/2026/03/Meet-and-Greet-with-Quincy-in-Upper-Marlboro-scaled.webp
END:VEVENT
BEGIN:VEVENT
DTSTART;TZID=America/New_York:20260328T090000
DTEND;TZID=America/New_York:20260328T110000
DTSTAMP:20260425T132241
CREATED:20260324T012837Z
LAST-MODIFIED:20260324T174759Z
UID:2073-1774688400-1774695600@quincyforcongress.com
SUMMARY:Meet and Greet with Quincy in Woodmore Towne Center
DESCRIPTION:Join us for an opportunity to meet Quincy Bareebe\, your congressional candidate in person\, hear their vision for the community\, and share the issues that matter most to you. This is a chance to ask questions\, connect with neighbors\, and learn more about the campaign. All are welcome! \n📍 Location:\nSilver Diner\n9151 Ruby Lockhart Blvd\nLanham\, MD 20706 \n  \n 
URL:https://quincyforcongress.com/event/meet-and-greet-with-quincy-in-woodmore-towne-center/
LOCATION:Event Location – 46580 Expedition\, 46580 Expedition Dr\, Lexington Park\, MD\, 20653\, United States
CATEGORIES:Meet The Candidate
ATTACH;FMTTYPE=image/jpeg:https://quincyforcongress.com/wp-content/uploads/2026/03/Meet-and-Greet-with-Quincy-in-Accokeek-scaled.jpg
END:VEVENT
BEGIN:VEVENT
DTSTART;TZID=America/New_York:20260321T100000
DTEND;TZID=America/New_York:20260321T120000
DTSTAMP:20260425T132241
CREATED:20260313T192701Z
LAST-MODIFIED:20260313T192701Z
UID:2058-1774087200-1774094400@quincyforcongress.com
SUMMARY:Meet and Greet with Quincy in Upper Marlboro
DESCRIPTION:Join us for an opportunity to meet Quincy Bareebe\, your congressional candidate in person\, hear their vision for the community\, and share the issues that matter most to you. This is a chance to ask questions\, connect with neighbors\, and learn more about the campaign. All are welcome! \nLocation: \nOlde Towne Inn\n14745 Main St\nUpper Marlboro\, MD 20772
URL:https://quincyforcongress.com/event/meet-and-greet-with-quincy-in-upper-marlboro-2/
LOCATION:Event Location – 14745 Main St.\, 14745 Main Street\, Upper Marlboro\, 20772\, United States
CATEGORIES:Meet The Candidate
ATTACH;FMTTYPE=image/jpeg:https://quincyforcongress.com/wp-content/uploads/2026/03/Meet-and-Greet-with-Quincy-in-Upper-Marlboro-scaled.jpg
END:VEVENT
BEGIN:VEVENT
DTSTART;TZID=America/New_York:20260319T183000
DTEND;TZID=America/New_York:20260319T203000
DTSTAMP:20260425T132241
CREATED:20260313T191911Z
LAST-MODIFIED:20260313T215829Z
UID:2055-1773945000-1773952200@quincyforcongress.com
SUMMARY:Meet and Greet with Quincy in Upper Marlboro
DESCRIPTION:Join us for an opportunity to meet Quincy Bareebe\, your congressional candidate in person\, hear their vision for the community\, and share the issues that matter most to you. This is a chance to ask questions\, connect with neighbors\, and learn more about the campaign. All are welcome! \n📍 Location: \nUpper Marlboro Community Center\n5400 Marlboro Race Track Rd\nUpper Marlboro\, MD 20772
URL:https://quincyforcongress.com/event/meet-and-greet-with-quincy-in-upper-marlboro/
LOCATION:Event Location – 5400 Marlboro Race Trk\, 5400 Marlboro Race Track Rd\, Upper Marlboro\, MD\, 20772\, United States
CATEGORIES:Meet The Candidate
ATTACH;FMTTYPE=image/jpeg:https://quincyforcongress.com/wp-content/uploads/2026/03/Meet-and-Greet-with-Quincy--scaled.jpg
END:VEVENT
BEGIN:VEVENT
DTSTART;TZID=America/New_York:20260317T183000
DTEND;TZID=America/New_York:20260317T203000
DTSTAMP:20260425T132241
CREATED:20260313T190827Z
LAST-MODIFIED:20260313T193955Z
UID:2047-1773772200-1773779400@quincyforcongress.com
SUMMARY:Meet and Greet with Quincy in Brandywine
DESCRIPTION:Join us for an opportunity to meet Quincy Bareebe\, your congressional candidate in person\, hear their vision for the community\, and share the issues that matter most to you. This is a chance to ask questions\, connect with neighbors\, and learn more about the campaign. All are welcome! \n📍 Location: \nCarolina Kitchen – Brandywine Crossing\n15812 Crain Highway\nBrandywine\, MD 20613
URL:https://quincyforcongress.com/event/meet-and-greet-with-quincy-in-brandywine/
LOCATION:Event Location – 15812 Crain Hwy\, 15812 Crain Highway\, Brandywine\, 20613\, United States
CATEGORIES:Meet The Candidate
ATTACH;FMTTYPE=image/jpeg:https://quincyforcongress.com/wp-content/uploads/2026/03/Meet-and-Greet-with-Quincy-in-Brandywine-scaled.jpg
END:VEVENT
BEGIN:VEVENT
DTSTART;TZID=America/New_York:20260314T113000
DTEND;TZID=America/New_York:20260314T133000
DTSTAMP:20260425T132241
CREATED:20260307T133806Z
LAST-MODIFIED:20260309T200254Z
UID:1976-1773487800-1773495000@quincyforcongress.com
SUMMARY:Office Grand Opening
DESCRIPTION:Join us as we celebrate the office grand opening of Quincy Bareebe’s campaign office! Stop by to meet the candidate\, Quincy for Congress\, connect with supporters\, and learn how you can get involved in building a stronger future for our community. Enjoy light refreshments\, conversation\, and an inside look at the campaign\, and hear issues that are important to her and our community. We hope to see you there!\nAddress:\n9500 Medical Center Dr\nUpper Marlboro\, MD 20774
URL:https://quincyforcongress.com/event/rock-concert/
LOCATION:Office\, 9500 Medical Center Dr\, Upper Marlboro\, 20774\, United States
CATEGORIES:Office Grand Opening
ATTACH;FMTTYPE=image/webp:https://quincyforcongress.com/wp-content/uploads/2026/02/Get-involved-AS9_3888-scaled-1.webp
END:VEVENT
BEGIN:VEVENT
DTSTART;TZID=America/New_York:20260312T140000
DTEND;TZID=America/New_York:20260312T153000
DTSTAMP:20260425T132241
CREATED:20260307T160831Z
LAST-MODIFIED:20260309T194547Z
UID:2007-1773324000-1773329400@quincyforcongress.com
SUMMARY:Meet the Candidate
DESCRIPTION:Join us for an opportunity to meet Quincy Bareebe\, your congressional candidate in person\, hear their vision for the community\, and share the issues that matter most to you. This is a chance to ask questions\, connect with neighbors\, and learn more about the campaign. All are welcome! \nLocation: 21895 Pegg Rd\, Lexington Park\, 20653\nLunch will be served
URL:https://quincyforcongress.com/event/meet-the-candidate/
LOCATION:Event Location – Pegg Rd\, 21895 Pegg Rd\, Lexington Park\, MD\, 20653\, United States
CATEGORIES:Meet The Candidate
ATTACH;FMTTYPE=image/jpeg:https://quincyforcongress.com/wp-content/uploads/2026/03/IMG_0627-1-scaled.jpg
END:VEVENT
END:VCALENDAR