BEGIN:VCALENDAR
VERSION:2.0
PRODID:-//Quincy For Congress - ECPv6.15.20//NONSGML v1.0//EN
CALSCALE:GREGORIAN
METHOD:PUBLISH
X-WR-CALNAME:Quincy For Congress
X-ORIGINAL-URL:https://quincyforcongress.com
X-WR-CALDESC:Events for Quincy For Congress
REFRESH-INTERVAL;VALUE=DURATION:PT1H
X-Robots-Tag:noindex
X-PUBLISHED-TTL:PT1H
BEGIN:VTIMEZONE
TZID:America/New_York
BEGIN:DAYLIGHT
TZOFFSETFROM:-0500
TZOFFSETTO:-0400
TZNAME:EDT
DTSTART:20250309T070000
END:DAYLIGHT
BEGIN:STANDARD
TZOFFSETFROM:-0400
TZOFFSETTO:-0500
TZNAME:EST
DTSTART:20251102T060000
END:STANDARD
BEGIN:DAYLIGHT
TZOFFSETFROM:-0500
TZOFFSETTO:-0400
TZNAME:EDT
DTSTART:20260308T070000
END:DAYLIGHT
BEGIN:STANDARD
TZOFFSETFROM:-0400
TZOFFSETTO:-0500
TZNAME:EST
DTSTART:20261101T060000
END:STANDARD
BEGIN:DAYLIGHT
TZOFFSETFROM:-0500
TZOFFSETTO:-0400
TZNAME:EDT
DTSTART:20270314T070000
END:DAYLIGHT
BEGIN:STANDARD
TZOFFSETFROM:-0400
TZOFFSETTO:-0500
TZNAME:EST
DTSTART:20271107T060000
END:STANDARD
END:VTIMEZONE
BEGIN:VEVENT
DTSTART;TZID=America/New_York:20260425T160000
DTEND;TZID=America/New_York:20260425T180000
DTSTAMP:20260425T130517
CREATED:20260403T125329Z
LAST-MODIFIED:20260424T214508Z
UID:2105-1777132800-1777140000@quincyforcongress.com
SUMMARY:Meet and Greet with Quincy in Clinton\, MD
DESCRIPTION:Join us for an opportunity to meet Quincy Bareebe\, your congressional candidate in person\, hear their vision for the community\, and share the issues that matter most to you. This is a chance to ask questions\, connect with neighbors\, and learn more about the campaign. All are welcome! \n📍 Location:\nPanera Bread\n8823 Woodyard Rd.\nClinton\, MD 20735
URL:https://quincyforcongress.com/event/meet-and-greet-with-quincy-in-clinton-md/
LOCATION:Event Location – 1936 Bar and Grill\, 4100 Mears Avenue\, Chesapeake Beach\, MD\, 20732\, United States
CATEGORIES:Meet The Candidate
ATTACH;FMTTYPE=image/webp:https://quincyforcongress.com/wp-content/uploads/2026/03/Meet-and-Greet-with-Quincy-in-Accokeek-scaled.webp
END:VEVENT
END:VCALENDAR